Package: EBarrays Version: 2.71.0 Command: chmod a+r EBarrays -R && E:\biocbuild\bbs-3.21-bioc\R\bin\R.exe CMD build --keep-empty-dirs --no-resave-data EBarrays StartedAt: 2025-02-09 18:29:36 -0500 (Sun, 09 Feb 2025) EndedAt: 2025-02-09 18:30:13 -0500 (Sun, 09 Feb 2025) EllapsedTime: 36.6 seconds RetCode: 0 Status: OK PackageFile: EBarrays_2.71.0.tar.gz PackageFileSize: 945.8 KiB