Package: EBarrays Version: 2.71.0 Command: E:\biocbuild\bbs-3.21-bioc\R\bin\R.exe CMD INSTALL EBarrays StartedAt: 2025-02-09 15:23:12 -0500 (Sun, 09 Feb 2025) EndedAt: 2025-02-09 15:23:33 -0500 (Sun, 09 Feb 2025) EllapsedTime: 21.6 seconds RetCode: 0 Status: OK