Package: EBcoexpress Version: 1.51.0 Maintainer: John A. Dawson MaintainerEmail: jadawson at wisc.edu git_url: https://git.bioconductor.org/packages/EBcoexpress git_branch: devel git_last_commit: 7d83d90 git_last_commit_date: 2024-10-29 09:40:56 -0500 (Tue, 29 Oct 2024)