Package: EBcoexpress Version: 1.51.0 Command: /Library/Frameworks/R.framework/Resources/bin/R CMD check --install=check:EBcoexpress.install-out.txt --library=/Library/Frameworks/R.framework/Resources/library --no-vignettes --timings EBcoexpress_1.51.0.tar.gz StartedAt: 2025-02-09 19:03:42 -0500 (Sun, 09 Feb 2025) EndedAt: 2025-02-09 19:03:56 -0500 (Sun, 09 Feb 2025) EllapsedTime: 14.2 seconds RetCode: 0 Status: OK CheckDir: EBcoexpress.Rcheck Warnings: 0