Package: EBcoexpress Version: 1.51.0 Command: /home/biocbuild/R/R/bin/R CMD build --keep-empty-dirs --no-resave-data EBcoexpress StartedAt: 2025-01-28 22:37:58 -0000 (Tue, 28 Jan 2025) EndedAt: 2025-01-28 22:38:27 -0000 (Tue, 28 Jan 2025) EllapsedTime: 29.0 seconds RetCode: 0 Status: OK PackageFile: EBcoexpress_1.51.0.tar.gz PackageFileSize: 2.984 MiB