Package: EBcoexpress Version: 1.51.0 Command: /home/biocbuild/bbs-3.21-bioc/R/bin/R CMD build --keep-empty-dirs --no-resave-data EBcoexpress StartedAt: 2025-02-09 17:05:56 -0500 (Sun, 09 Feb 2025) EndedAt: 2025-02-09 17:06:17 -0500 (Sun, 09 Feb 2025) EllapsedTime: 21.0 seconds RetCode: 0 Status: OK PackageFile: EBcoexpress_1.51.0.tar.gz PackageFileSize: 3.036 MiB