Package: EBcoexpress Version: 1.51.0 Command: chmod a+r EBcoexpress -R && E:\biocbuild\bbs-3.21-bioc\R\bin\R.exe CMD build --keep-empty-dirs --no-resave-data EBcoexpress StartedAt: 2025-02-09 18:29:37 -0500 (Sun, 09 Feb 2025) EndedAt: 2025-02-09 18:30:14 -0500 (Sun, 09 Feb 2025) EllapsedTime: 36.7 seconds RetCode: 0 Status: OK PackageFile: EBcoexpress_1.51.0.tar.gz PackageFileSize: 732.8 KiB