Package: EDIRquery Version: 1.7.0 Command: rm -rf EDIRquery.buildbin-libdir && mkdir EDIRquery.buildbin-libdir && /Users/biocbuild/BBS/utils/build-universal.sh EDIRquery_1.7.0.tar.gz /Library/Frameworks/R.framework/Resources/bin/R EDIRquery.buildbin-libdir StartedAt: 2025-02-09 22:13:12 -0500 (Sun, 09 Feb 2025) EndedAt: 2025-02-09 22:13:23 -0500 (Sun, 09 Feb 2025) EllapsedTime: 11.2 seconds RetCode: 0 Status: OK PackageFile: EDIRquery_1.7.0.tgz PackageFileSize: 1.624 MiB