Package: EDIRquery Version: 1.7.0 Command: chmod a+r EDIRquery -R && E:\biocbuild\bbs-3.21-bioc\R\bin\R.exe CMD build --keep-empty-dirs --no-resave-data EDIRquery StartedAt: 2025-02-12 18:34:14 -0500 (Wed, 12 Feb 2025) EndedAt: 2025-02-12 18:35:03 -0500 (Wed, 12 Feb 2025) EllapsedTime: 48.2 seconds RetCode: 0 Status: OK PackageFile: EDIRquery_1.7.0.tar.gz PackageFileSize: 1.377 MiB