Package: EGSEA Version: 1.35.0 Command: rm -rf EGSEA.buildbin-libdir && mkdir EGSEA.buildbin-libdir && /Users/biocbuild/BBS/utils/build-universal.sh EGSEA_1.35.0.tar.gz /Library/Frameworks/R.framework/Resources/bin/R EGSEA.buildbin-libdir StartedAt: 2025-02-09 22:13:17 -0500 (Sun, 09 Feb 2025) EndedAt: 2025-02-09 22:13:41 -0500 (Sun, 09 Feb 2025) EllapsedTime: 24.5 seconds RetCode: 0 Status: OK PackageFile: EGSEA_1.35.0.tgz PackageFileSize: 2.438 MiB