Package: EGSEA Version: 1.35.0 Command: /Library/Frameworks/R.framework/Resources/bin/R CMD build --keep-empty-dirs --no-resave-data EGSEA StartedAt: 2025-02-04 16:13:59 -0500 (Tue, 04 Feb 2025) EndedAt: 2025-02-04 16:15:49 -0500 (Tue, 04 Feb 2025) EllapsedTime: 110.2 seconds RetCode: 0 Status: OK PackageFile: EGSEA_1.35.0.tar.gz PackageFileSize: 2.088 MiB