Package: EGSEA Version: 1.35.0 Command: /home/biocbuild/R/R/bin/R CMD INSTALL EGSEA StartedAt: 2025-01-29 20:28:10 -0000 (Wed, 29 Jan 2025) EndedAt: 2025-01-29 20:29:25 -0000 (Wed, 29 Jan 2025) EllapsedTime: 75.1 seconds RetCode: 0 Status: OK