Package: EGSEA Version: 1.35.0 Command: /Library/Frameworks/R.framework/Resources/bin/R CMD check --install=check:EGSEA.install-out.txt --library=/Library/Frameworks/R.framework/Resources/library --no-vignettes --timings EGSEA_1.35.0.tar.gz StartedAt: 2025-02-04 20:17:15 -0500 (Tue, 04 Feb 2025) EndedAt: 2025-02-04 20:26:47 -0500 (Tue, 04 Feb 2025) EllapsedTime: 571.9 seconds RetCode: 0 Status: OK CheckDir: EGSEA.Rcheck Warnings: 0