Package: EGSEA Version: 1.35.0 Command: /Library/Frameworks/R.framework/Resources/bin/R CMD INSTALL EGSEA StartedAt: 2025-02-09 15:40:21 -0500 (Sun, 09 Feb 2025) EndedAt: 2025-02-09 15:41:37 -0500 (Sun, 09 Feb 2025) EllapsedTime: 75.7 seconds RetCode: 0 Status: OK