Package: EGSEA Version: 1.35.0 Command: rm -rf EGSEA.buildbin-libdir && mkdir EGSEA.buildbin-libdir && E:\biocbuild\bbs-3.21-bioc\R\bin\R.exe CMD INSTALL --build --library=EGSEA.buildbin-libdir EGSEA_1.35.0.tar.gz StartedAt: 2025-02-10 07:40:41 -0500 (Mon, 10 Feb 2025) EndedAt: 2025-02-10 07:42:51 -0500 (Mon, 10 Feb 2025) EllapsedTime: 130.0 seconds RetCode: 0 Status: OK PackageFile: EGSEA_1.35.0.zip PackageFileSize: 2.448 MiB