Package: EGSEA Version: 1.35.0 Command: E:\biocbuild\bbs-3.21-bioc\R\bin\R.exe CMD check --no-multiarch --install=check:EGSEA.install-out.txt --library=E:\biocbuild\bbs-3.21-bioc\R\library --no-vignettes --timings EGSEA_1.35.0.tar.gz StartedAt: 2025-02-10 00:47:00 -0500 (Mon, 10 Feb 2025) EndedAt: 2025-02-10 00:57:06 -0500 (Mon, 10 Feb 2025) EllapsedTime: 606.4 seconds RetCode: 0 Status: OK CheckDir: EGSEA.Rcheck Warnings: 0