Package: ELMER Version: 2.31.0 Command: /Library/Frameworks/R.framework/Resources/bin/R CMD build --keep-empty-dirs --no-resave-data ELMER StartedAt: 2025-02-10 16:13:36 -0500 (Mon, 10 Feb 2025) EndedAt: 2025-02-10 16:16:25 -0500 (Mon, 10 Feb 2025) EllapsedTime: 168.7 seconds RetCode: 0 Status: OK PackageFile: ELMER_2.31.0.tar.gz PackageFileSize: 43.69 MiB