Package: ELMER Version: 2.31.0 Command: /Library/Frameworks/R.framework/Resources/bin/R CMD INSTALL ELMER StartedAt: 2025-02-10 15:27:53 -0500 (Mon, 10 Feb 2025) EndedAt: 2025-02-10 15:28:15 -0500 (Mon, 10 Feb 2025) EllapsedTime: 21.6 seconds RetCode: 0 Status: OK