Package: ELMER Version: 2.31.0 Command: /home/biocbuild/R/R/bin/R CMD check --install=check:ELMER.install-out.txt --library=/home/biocbuild/R/R/site-library --no-vignettes --timings ELMER_2.31.0.tar.gz StartedAt: 2025-01-28 10:15:12 -0000 (Tue, 28 Jan 2025) EndedAt: 2025-01-28 10:35:16 -0000 (Tue, 28 Jan 2025) EllapsedTime: 1204.3 seconds RetCode: 0 Status: WARNINGS CheckDir: ELMER.Rcheck Warnings: 5