Package: ELMER Version: 2.31.0 Command: /home/biocbuild/R/R/bin/R CMD INSTALL ELMER StartedAt: 2025-01-29 20:32:42 -0000 (Wed, 29 Jan 2025) EndedAt: 2025-01-29 20:33:58 -0000 (Wed, 29 Jan 2025) EllapsedTime: 75.7 seconds RetCode: 0 Status: OK