Package: ELMER Version: 2.31.0 Command: rm -rf ELMER.buildbin-libdir && mkdir ELMER.buildbin-libdir && /Users/biocbuild/BBS/utils/build-universal.sh ELMER_2.31.0.tar.gz /Library/Frameworks/R.framework/Resources/bin/R ELMER.buildbin-libdir StartedAt: 2025-02-10 00:51:57 -0500 (Mon, 10 Feb 2025) EndedAt: 2025-02-10 00:53:27 -0500 (Mon, 10 Feb 2025) EllapsedTime: 90.2 seconds RetCode: 0 Status: OK PackageFile: ELMER_2.31.0.tgz PackageFileSize: 41.16 MiB