Package: ELMER Version: 2.31.0 Command: /Library/Frameworks/R.framework/Resources/bin/R CMD build --keep-empty-dirs --no-resave-data ELMER StartedAt: 2025-02-09 16:39:05 -0500 (Sun, 09 Feb 2025) EndedAt: 2025-02-09 16:45:31 -0500 (Sun, 09 Feb 2025) EllapsedTime: 386.6 seconds RetCode: 0 Status: OK PackageFile: ELMER_2.31.0.tar.gz PackageFileSize: 43.69 MiB