Package: ELMER Version: 2.31.0 Command: /Library/Frameworks/R.framework/Resources/bin/R CMD check --install=check:ELMER.install-out.txt --library=/Library/Frameworks/R.framework/Resources/library --no-vignettes --timings ELMER_2.31.0.tar.gz StartedAt: 2025-02-09 20:30:11 -0500 (Sun, 09 Feb 2025) EndedAt: 2025-02-09 20:46:43 -0500 (Sun, 09 Feb 2025) EllapsedTime: 992.3 seconds RetCode: 0 Status: OK CheckDir: ELMER.Rcheck Warnings: 0