Package: ELMER Version: 2.31.0 Command: /Library/Frameworks/R.framework/Resources/bin/R CMD INSTALL ELMER StartedAt: 2025-02-09 15:42:59 -0500 (Sun, 09 Feb 2025) EndedAt: 2025-02-09 15:44:14 -0500 (Sun, 09 Feb 2025) EllapsedTime: 74.3 seconds RetCode: 0 Status: OK