Package: ELMER Version: 2.31.0 Command: /home/biocbuild/bbs-3.21-bioc/R/bin/R CMD build --keep-empty-dirs --no-resave-data ELMER StartedAt: 2025-02-09 17:06:38 -0500 (Sun, 09 Feb 2025) EndedAt: 2025-02-09 17:12:33 -0500 (Sun, 09 Feb 2025) EllapsedTime: 355.5 seconds RetCode: 0 Status: OK PackageFile: ELMER_2.31.0.tar.gz PackageFileSize: 43.57 MiB