Package: ELMER Version: 2.31.0 Command: /home/biocbuild/bbs-3.21-bioc/R/bin/R CMD INSTALL ELMER StartedAt: 2025-02-09 15:47:42 -0500 (Sun, 09 Feb 2025) EndedAt: 2025-02-09 15:48:36 -0500 (Sun, 09 Feb 2025) EllapsedTime: 54.2 seconds RetCode: 0 Status: OK