Package: ELMER Version: 2.31.0 Command: rm -rf ELMER.buildbin-libdir && mkdir ELMER.buildbin-libdir && E:\biocbuild\bbs-3.21-bioc\R\bin\R.exe CMD INSTALL --build --library=ELMER.buildbin-libdir ELMER_2.31.0.tar.gz StartedAt: 2025-02-10 07:40:47 -0500 (Mon, 10 Feb 2025) EndedAt: 2025-02-10 07:42:46 -0500 (Mon, 10 Feb 2025) EllapsedTime: 118.8 seconds RetCode: 0 Status: OK PackageFile: ELMER_2.31.0.zip PackageFileSize: 40.34 MiB