Package: ELMER Version: 2.31.0 Command: chmod a+r ELMER -R && E:\biocbuild\bbs-3.21-bioc\R\bin\R.exe CMD build --keep-empty-dirs --no-resave-data ELMER StartedAt: 2025-02-09 18:30:59 -0500 (Sun, 09 Feb 2025) EndedAt: 2025-02-09 18:38:20 -0500 (Sun, 09 Feb 2025) EllapsedTime: 441.2 seconds RetCode: 0 Status: OK PackageFile: ELMER_2.31.0.tar.gz PackageFileSize: 42.8 MiB