Package: ELMER Version: 2.31.0 Command: E:\biocbuild\bbs-3.21-bioc\R\bin\R.exe CMD check --no-multiarch --install=check:ELMER.install-out.txt --library=E:\biocbuild\bbs-3.21-bioc\R\library --no-vignettes --timings ELMER_2.31.0.tar.gz StartedAt: 2025-02-10 00:47:16 -0500 (Mon, 10 Feb 2025) EndedAt: 2025-02-10 01:05:37 -0500 (Mon, 10 Feb 2025) EllapsedTime: 1100.9 seconds RetCode: 1 Status: ERROR CheckDir: ELMER.Rcheck Warnings: NA