Package: EMDomics Version: 2.37.0 Command: rm -rf EMDomics.buildbin-libdir && mkdir EMDomics.buildbin-libdir && /Users/biocbuild/BBS/utils/build-universal.sh EMDomics_2.37.0.tar.gz /Library/Frameworks/R.framework/Resources/bin/R EMDomics.buildbin-libdir StartedAt: 2025-02-09 22:13:17 -0500 (Sun, 09 Feb 2025) EndedAt: 2025-02-09 22:13:20 -0500 (Sun, 09 Feb 2025) EllapsedTime: 3.1 seconds RetCode: 0 Status: OK PackageFile: EMDomics_2.37.0.tgz PackageFileSize: 423.7 KiB