Package: EMDomics Version: 2.37.0 Command: /Library/Frameworks/R.framework/Resources/bin/R CMD check --install=check:EMDomics.install-out.txt --library=/Library/Frameworks/R.framework/Resources/library --no-vignettes --timings EMDomics_2.37.0.tar.gz StartedAt: 2025-02-09 19:04:37 -0500 (Sun, 09 Feb 2025) EndedAt: 2025-02-09 19:05:04 -0500 (Sun, 09 Feb 2025) EllapsedTime: 26.3 seconds RetCode: 0 Status: OK CheckDir: EMDomics.Rcheck Warnings: 0