Package: EMDomics Version: 2.37.0 Command: /Library/Frameworks/R.framework/Resources/bin/R CMD INSTALL EMDomics StartedAt: 2025-02-03 15:42:38 -0500 (Mon, 03 Feb 2025) EndedAt: 2025-02-03 15:42:40 -0500 (Mon, 03 Feb 2025) EllapsedTime: 2.3 seconds RetCode: 0 Status: OK