Package: EMDomics Version: 2.37.0 Command: /home/biocbuild/R/R/bin/R CMD build --keep-empty-dirs --no-resave-data EMDomics StartedAt: 2025-01-28 22:39:50 -0000 (Tue, 28 Jan 2025) EndedAt: 2025-01-28 22:40:09 -0000 (Tue, 28 Jan 2025) EllapsedTime: 19.0 seconds RetCode: 0 Status: OK PackageFile: EMDomics_2.37.0.tar.gz PackageFileSize: 129.1 KiB