Package: EMDomics Version: 2.37.0 Command: /home/biocbuild/R/R/bin/R CMD check --install=check:EMDomics.install-out.txt --library=/home/biocbuild/R/R/site-library --no-vignettes --timings EMDomics_2.37.0.tar.gz StartedAt: 2025-01-28 10:15:23 -0000 (Tue, 28 Jan 2025) EndedAt: 2025-01-28 10:16:52 -0000 (Tue, 28 Jan 2025) EllapsedTime: 89.1 seconds RetCode: 0 Status: OK CheckDir: EMDomics.Rcheck Warnings: 0