Package: EMDomics Version: 2.37.0 Command: /home/biocbuild/R/R/bin/R CMD INSTALL EMDomics StartedAt: 2025-01-29 19:45:47 -0000 (Wed, 29 Jan 2025) EndedAt: 2025-01-29 19:45:53 -0000 (Wed, 29 Jan 2025) EllapsedTime: 6.3 seconds RetCode: 0 Status: OK