Package: EMDomics Version: 2.37.0 Command: rm -rf EMDomics.buildbin-libdir && mkdir EMDomics.buildbin-libdir && /Users/biocbuild/BBS/utils/build-universal.sh EMDomics_2.37.0.tar.gz /Library/Frameworks/R.framework/Resources/bin/R EMDomics.buildbin-libdir StartedAt: 2025-02-10 00:51:58 -0500 (Mon, 10 Feb 2025) EndedAt: 2025-02-10 00:52:07 -0500 (Mon, 10 Feb 2025) EllapsedTime: 9.1 seconds RetCode: 0 Status: OK PackageFile: EMDomics_2.37.0.tgz PackageFileSize: 424.2 KiB