Package: EMDomics Version: 2.37.0 Command: /Library/Frameworks/R.framework/Resources/bin/R CMD INSTALL EMDomics StartedAt: 2025-02-09 15:14:13 -0500 (Sun, 09 Feb 2025) EndedAt: 2025-02-09 15:14:21 -0500 (Sun, 09 Feb 2025) EllapsedTime: 8.1 seconds RetCode: 0 Status: OK