Package: EMDomics Version: 2.37.0 Command: /home/biocbuild/bbs-3.21-bioc/R/bin/R CMD build --keep-empty-dirs --no-resave-data EMDomics StartedAt: 2025-02-03 17:15:27 -0500 (Mon, 03 Feb 2025) EndedAt: 2025-02-03 17:15:40 -0500 (Mon, 03 Feb 2025) EllapsedTime: 13.0 seconds RetCode: 0 Status: OK PackageFile: EMDomics_2.37.0.tar.gz PackageFileSize: 285.5 KiB