Package: EMDomics Version: 2.37.0 Command: rm -rf EMDomics.buildbin-libdir && mkdir EMDomics.buildbin-libdir && E:\biocbuild\bbs-3.21-bioc\R\bin\R.exe CMD INSTALL --build --library=EMDomics.buildbin-libdir EMDomics_2.37.0.tar.gz StartedAt: 2025-02-10 07:40:50 -0500 (Mon, 10 Feb 2025) EndedAt: 2025-02-10 07:41:29 -0500 (Mon, 10 Feb 2025) EllapsedTime: 39.1 seconds RetCode: 0 Status: OK PackageFile: EMDomics_2.37.0.zip PackageFileSize: 181.4 KiB