Package: EMDomics Version: 2.37.0 Command: chmod a+r EMDomics -R && E:\biocbuild\bbs-3.21-bioc\R\bin\R.exe CMD build --keep-empty-dirs --no-resave-data EMDomics StartedAt: 2025-02-09 18:31:13 -0500 (Sun, 09 Feb 2025) EndedAt: 2025-02-09 18:31:34 -0500 (Sun, 09 Feb 2025) EllapsedTime: 21.2 seconds RetCode: 0 Status: OK PackageFile: EMDomics_2.37.0.tar.gz PackageFileSize: 86.3 KiB