Package: EMDomics Version: 2.37.0 Command: E:\biocbuild\bbs-3.21-bioc\R\bin\R.exe CMD check --no-multiarch --install=check:EMDomics.install-out.txt --library=E:\biocbuild\bbs-3.21-bioc\R\library --no-vignettes --timings EMDomics_2.37.0.tar.gz StartedAt: 2025-02-10 00:47:47 -0500 (Mon, 10 Feb 2025) EndedAt: 2025-02-10 00:49:21 -0500 (Mon, 10 Feb 2025) EllapsedTime: 94.0 seconds RetCode: 0 Status: OK CheckDir: EMDomics.Rcheck Warnings: 0