Package: EMDomics Version: 2.37.0 Command: E:\biocbuild\bbs-3.21-bioc\R\bin\R.exe CMD INSTALL EMDomics StartedAt: 2025-02-03 15:52:40 -0500 (Mon, 03 Feb 2025) EndedAt: 2025-02-03 15:53:12 -0500 (Mon, 03 Feb 2025) EllapsedTime: 32.0 seconds RetCode: 0 Status: OK