Package: ENmix Version: 1.43.2 Maintainer: Zongli Xu MaintainerEmail: xuz at niehs.nih.gov git_url: https://git.bioconductor.org/packages/ENmix git_branch: devel git_last_commit: 7c51d75 git_last_commit_date: 2024-11-27 10:45:30 -0500 (Wed, 27 Nov 2024)