Package: ENmix Version: 1.43.2 Command: /Library/Frameworks/R.framework/Resources/bin/R CMD INSTALL ENmix StartedAt: 2025-02-04 15:27:39 -0500 (Tue, 04 Feb 2025) EndedAt: 2025-02-04 15:28:00 -0500 (Tue, 04 Feb 2025) EllapsedTime: 20.6 seconds RetCode: 0 Status: OK