Package: ENmix Version: 1.43.2 Command: /home/biocbuild/R/R/bin/R CMD INSTALL ENmix StartedAt: 2025-01-29 20:35:24 -0000 (Wed, 29 Jan 2025) EndedAt: 2025-01-29 20:36:37 -0000 (Wed, 29 Jan 2025) EllapsedTime: 73.0 seconds RetCode: 0 Status: OK