Package: ENmix Version: 1.43.2 Command: /Library/Frameworks/R.framework/Resources/bin/R CMD build --keep-empty-dirs --no-resave-data ENmix StartedAt: 2025-02-04 16:36:11 -0500 (Tue, 04 Feb 2025) EndedAt: 2025-02-04 16:37:12 -0500 (Tue, 04 Feb 2025) EllapsedTime: 60.5 seconds RetCode: 0 Status: OK PackageFile: ENmix_1.43.2.tar.gz PackageFileSize: 20.02 MiB