Package: ENmix Version: 1.43.2 Command: /Library/Frameworks/R.framework/Resources/bin/R CMD check --install=check:ENmix.install-out.txt --library=/Library/Frameworks/R.framework/Resources/library --no-vignettes --timings ENmix_1.43.2.tar.gz StartedAt: 2025-02-04 20:18:06 -0500 (Tue, 04 Feb 2025) EndedAt: 2025-02-04 20:24:07 -0500 (Tue, 04 Feb 2025) EllapsedTime: 360.9 seconds RetCode: 0 Status: OK CheckDir: ENmix.Rcheck Warnings: 0