Package: ENmix Version: 1.43.2 Command: /home/biocbuild/bbs-3.21-bioc/R/bin/R CMD build --keep-empty-dirs --no-resave-data ENmix StartedAt: 2025-02-04 17:05:12 -0500 (Tue, 04 Feb 2025) EndedAt: 2025-02-04 17:06:06 -0500 (Tue, 04 Feb 2025) EllapsedTime: 54.0 seconds RetCode: 0 Status: OK PackageFile: ENmix_1.43.2.tar.gz PackageFileSize: 20.02 MiB