Package: ENmix Version: 1.43.2 Command: /home/biocbuild/bbs-3.21-bioc/R/bin/R CMD check --install=check:ENmix.install-out.txt --library=/home/biocbuild/bbs-3.21-bioc/R/site-library --timings ENmix_1.43.2.tar.gz StartedAt: 2025-02-04 22:00:57 -0500 (Tue, 04 Feb 2025) EndedAt: 2025-02-04 22:06:28 -0500 (Tue, 04 Feb 2025) EllapsedTime: 331.4 seconds RetCode: 0 Status: OK CheckDir: ENmix.Rcheck Warnings: 0