Package: ENmix Version: 1.43.2 Command: /home/biocbuild/bbs-3.21-bioc/R/bin/R CMD INSTALL ENmix StartedAt: 2025-02-04 15:40:24 -0500 (Tue, 04 Feb 2025) EndedAt: 2025-02-04 15:41:17 -0500 (Tue, 04 Feb 2025) EllapsedTime: 53.0 seconds RetCode: 0 Status: OK